############################################################################## ############################################################################## ### ### Running command: ### ### C:\Users\biocbuild\bbs-3.20-bioc\R\bin\R.exe CMD check --no-multiarch --install=check:GeomxTools.install-out.txt --library=C:\Users\biocbuild\bbs-3.20-bioc\R\library --no-vignettes --timings GeomxTools_3.9.0.tar.gz ### ############################################################################## ############################################################################## * using log directory 'C:/Users/biocbuild/bbs-3.20-bioc/meat/GeomxTools.Rcheck' * using R version 4.4.1 (2024-06-14 ucrt) * using platform: x86_64-w64-mingw32 * R was compiled by gcc.exe (GCC) 13.2.0 GNU Fortran (GCC) 13.2.0 * running under: Windows Server 2022 x64 (build 20348) * using session charset: UTF-8 * using option '--no-vignettes' * checking for file 'GeomxTools/DESCRIPTION' ... OK * this is package 'GeomxTools' version '3.9.0' * package encoding: UTF-8 * checking package namespace information ... OK * checking package dependencies ... OK * checking if this is a source package ... OK * checking if there is a namespace ... OK * checking for hidden files and directories ... OK * checking for portable file names ... OK * checking whether package 'GeomxTools' can be installed ... OK * checking installed package size ... NOTE installed size is 19.4Mb sub-directories of 1Mb or more: extdata 18.5Mb * checking package directory ... OK * checking 'build' directory ... OK * checking DESCRIPTION meta-information ... NOTE License components which are templates and need '+ file LICENSE': MIT * checking top-level files ... NOTE File LICENSE is not mentioned in the DESCRIPTION file. * checking for left-over files ... OK * checking index information ... OK * checking package subdirectories ... OK * checking code files for non-ASCII characters ... OK * checking R files for syntax errors ... OK * checking whether the package can be loaded ... OK * checking whether the package can be loaded with stated dependencies ... OK * checking whether the package can be unloaded cleanly ... OK * checking whether the namespace can be loaded with stated dependencies ... OK * checking whether the namespace can be unloaded cleanly ... OK * checking dependencies in R code ... OK * checking S3 generic/method consistency ... OK * checking replacement functions ... OK * checking foreign function calls ... OK * checking R code for possible problems ... NOTE aggregateCounts: no visible binding for global variable 'TargetName' hkNorm: no visible binding for global variable 'TargetName' mixedModelDE: multiple local function definitions for 'deFunc' with different formal arguments qgrubbs: no visible global function definition for 'qtable' readPKCFile: no visible binding for global variable 'RTS_ID' readPKCFile: no visible binding for global variable 'Module' setGrubbsFlags: no visible binding for global variable 'TargetName' setGrubbsFlags : : no visible binding for global variable 'Module' setProbeRatioFlags: no visible binding for global variable 'TargetName' setTargetFlags: no visible global function definition for 'analtye' subtractBackground : : no visible binding for global variable 'Module' setSignatureFuncs<-,NanoStringGeoMxSet-character: no visible global function definition for 'setSigFuncs<-' signatureScores,NanoStringGeoMxSet: no visible global function definition for 'assayDataElement2' signatureScores,NanoStringGeoMxSet: no visible global function definition for '.sigCalc' Undefined global functions or variables: .sigCalc Module RTS_ID TargetName analtye assayDataElement2 qtable setSigFuncs<- * checking Rd files ... OK * checking Rd metadata ... OK * checking Rd cross-references ... OK * checking for missing documentation entries ... OK * checking for code/documentation mismatches ... OK * checking Rd \usage sections ... OK * checking Rd contents ... OK * checking for unstated dependencies in examples ... OK * checking files in 'vignettes' ... OK * checking examples ... OK Examples with CPU (user + system) or elapsed time > 5s user system elapsed readNanoStringGeoMxSet 43.73 4.16 47.79 writeNanoStringGeoMxSet 19.90 1.21 21.17 NanoStringGeoMxSet-class 18.00 0.96 18.99 mixedModelDE 14.11 0.75 79.38 setBioProbeQCFlags 13.88 0.21 14.10 readPKCFile 12.24 1.34 13.51 setQCFlags-NanoStringGeoMxSet-method 12.64 0.18 12.92 aggregateCounts 10.72 0.28 10.67 as.SpatialExperiment 5.13 0.59 5.34 plotConcordance 4.72 0.30 5.05 * checking for unstated dependencies in 'tests' ... OK * checking tests ... Running 'testthat.R' OK * checking for unstated dependencies in vignettes ... OK * checking package vignettes ... OK * checking running R code from vignettes ... SKIPPED * checking re-building of vignette outputs ... SKIPPED * checking PDF version of manual ... OK * DONE Status: 4 NOTEs See 'C:/Users/biocbuild/bbs-3.20-bioc/meat/GeomxTools.Rcheck/00check.log' for details.