Package: GeomxTools Version: 3.9.0 Command: rm -rf GeomxTools.buildbin-libdir && mkdir GeomxTools.buildbin-libdir && C:\Users\biocbuild\bbs-3.20-bioc\R\bin\R.exe CMD INSTALL --build --library=GeomxTools.buildbin-libdir GeomxTools_3.9.0.tar.gz StartedAt: 2024-07-16 06:15:03 -0400 (Tue, 16 Jul 2024) EndedAt: 2024-07-16 06:15:46 -0400 (Tue, 16 Jul 2024) EllapsedTime: 43.1 seconds RetCode: 0 Status: OK PackageFile: GeomxTools_3.9.0.zip PackageFileSize: 12.68 MiB