Package: GeomxTools Version: 3.10.0 Command: /Library/Frameworks/R.framework/Resources/bin/R CMD check --install=check:GeomxTools.install-out.txt --library=/Library/Frameworks/R.framework/Resources/library --no-vignettes --timings GeomxTools_3.10.0.tar.gz StartedAt: 2025-01-31 04:30:26 -0500 (Fri, 31 Jan 2025) EndedAt: 2025-01-31 05:10:27 -0500 (Fri, 31 Jan 2025) EllapsedTime: 2400.5 seconds RetCode: None Status: TIMEOUT CheckDir: GeomxTools.Rcheck Warnings: NA