Package: GeoTcgaData Version: 2.6.0 Command: F:\biocbuild\bbs-3.20-bioc\R\bin\R.exe CMD INSTALL GeoTcgaData StartedAt: 2025-01-30 16:31:16 -0500 (Thu, 30 Jan 2025) EndedAt: 2025-01-30 16:32:11 -0500 (Thu, 30 Jan 2025) EllapsedTime: 55.7 seconds RetCode: 0 Status: OK