Package: GenomicSuperSignature Version: 1.14.0 Command: /Library/Frameworks/R.framework/Resources/bin/R CMD build --keep-empty-dirs --no-resave-data GenomicSuperSignature StartedAt: 2025-01-30 19:24:01 -0500 (Thu, 30 Jan 2025) EndedAt: 2025-01-30 19:26:34 -0500 (Thu, 30 Jan 2025) EllapsedTime: 152.5 seconds RetCode: 0 Status: OK PackageFile: GenomicSuperSignature_1.14.0.tar.gz PackageFileSize: 6.355 MiB