Package: GenomicSuperSignature Version: 1.14.0 Command: /Library/Frameworks/R.framework/Resources/bin/R CMD build --keep-empty-dirs --no-resave-data GenomicSuperSignature StartedAt: 2025-01-31 00:18:51 -0500 (Fri, 31 Jan 2025) EndedAt: 2025-01-31 00:20:38 -0500 (Fri, 31 Jan 2025) EllapsedTime: 107.4 seconds RetCode: 0 Status: OK PackageFile: GenomicSuperSignature_1.14.0.tar.gz PackageFileSize: 6.356 MiB