Package: GenomicPlot Version: 1.4.0 Command: /home/biocbuild/R/R/bin/R CMD check --install=check:GenomicPlot.install-out.txt --library=/home/biocbuild/R/R/site-library --no-vignettes --timings GenomicPlot_1.4.0.tar.gz StartedAt: 2025-01-31 06:35:11 -0000 (Fri, 31 Jan 2025) EndedAt: 2025-01-31 07:15:12 -0000 (Fri, 31 Jan 2025) EllapsedTime: 2400.9 seconds RetCode: None Status: TIMEOUT CheckDir: GenomicPlot.Rcheck Warnings: NA