Package: GenomicPlot Version: 1.4.0 Command: /home/biocbuild/R/R/bin/R CMD build --keep-empty-dirs --no-resave-data GenomicPlot StartedAt: 2025-01-30 23:50:51 -0000 (Thu, 30 Jan 2025) EndedAt: 2025-01-30 23:54:11 -0000 (Thu, 30 Jan 2025) EllapsedTime: 200.1 seconds RetCode: 0 Status: OK PackageFile: GenomicPlot_1.4.0.tar.gz PackageFileSize: 1.958 MiB