Package: GenomicInteractions Version: 1.40.0 Command: chmod a+r GenomicInteractions -R && F:\biocbuild\bbs-3.20-bioc\R\bin\R.exe CMD build --keep-empty-dirs --no-resave-data GenomicInteractions StartedAt: 2025-01-30 19:09:22 -0500 (Thu, 30 Jan 2025) EndedAt: 2025-01-30 19:13:32 -0500 (Thu, 30 Jan 2025) EllapsedTime: 250.3 seconds RetCode: 0 Status: OK PackageFile: GenomicInteractions_1.40.0.tar.gz PackageFileSize: 3.283 MiB