Package: GenomicFeatures Version: 1.58.0 Command: /home/biocbuild/R/R/bin/R CMD build --keep-empty-dirs --no-resave-data GenomicFeatures StartedAt: 2025-01-30 23:49:18 -0000 (Thu, 30 Jan 2025) EndedAt: 2025-01-30 23:50:51 -0000 (Thu, 30 Jan 2025) EllapsedTime: 93.0 seconds RetCode: 0 Status: OK PackageFile: GenomicFeatures_1.58.0.tar.gz PackageFileSize: 579.9 KiB