Package: GenomicFeatures Version: 1.58.0 Command: chmod a+r GenomicFeatures -R && F:\biocbuild\bbs-3.20-bioc\R\bin\R.exe CMD build --keep-empty-dirs --no-resave-data GenomicFeatures StartedAt: 2025-01-30 19:08:46 -0500 (Thu, 30 Jan 2025) EndedAt: 2025-01-30 19:10:49 -0500 (Thu, 30 Jan 2025) EllapsedTime: 123.3 seconds RetCode: 0 Status: OK PackageFile: GenomicFeatures_1.58.0.tar.gz PackageFileSize: 556.1 KiB