Package: GenomicAlignments Version: 1.42.0 Command: F:\biocbuild\bbs-3.20-bioc\R\bin\R.exe CMD INSTALL GenomicAlignments StartedAt: 2025-01-30 15:56:32 -0500 (Thu, 30 Jan 2025) EndedAt: 2025-01-30 16:00:02 -0500 (Thu, 30 Jan 2025) EllapsedTime: 209.3 seconds RetCode: 0 Status: OK