Package: GenomicAlignments Version: 1.42.0 Command: /Library/Frameworks/R.framework/Resources/bin/R CMD build --keep-empty-dirs --no-resave-data GenomicAlignments StartedAt: 2025-01-30 19:21:23 -0500 (Thu, 30 Jan 2025) EndedAt: 2025-01-30 19:25:34 -0500 (Thu, 30 Jan 2025) EllapsedTime: 251.0 seconds RetCode: 0 Status: OK PackageFile: GenomicAlignments_1.42.0.tar.gz PackageFileSize: 2.165 MiB