Package: GenomeInfoDb Version: 1.42.3 Command: /home/biocbuild/R/R/bin/R CMD build --keep-empty-dirs --no-resave-data GenomeInfoDb StartedAt: 2025-01-30 23:48:40 -0000 (Thu, 30 Jan 2025) EndedAt: 2025-01-30 23:49:18 -0000 (Thu, 30 Jan 2025) EllapsedTime: 38.0 seconds RetCode: 0 Status: OK PackageFile: GenomeInfoDb_1.42.3.tar.gz PackageFileSize: 3.436 MiB