Package: GenomAutomorphism Version: 1.8.1 Command: /home/biocbuild/R/R/bin/R CMD check --install=check:GenomAutomorphism.install-out.txt --library=/home/biocbuild/R/R/site-library --no-vignettes --timings GenomAutomorphism_1.8.1.tar.gz StartedAt: 2025-01-31 06:32:27 -0000 (Fri, 31 Jan 2025) EndedAt: 2025-01-31 06:36:14 -0000 (Fri, 31 Jan 2025) EllapsedTime: 227.1 seconds RetCode: 0 Status: WARNINGS CheckDir: GenomAutomorphism.Rcheck Warnings: 1