Package: GenomAutomorphism Version: 1.8.1 Command: F:\biocbuild\bbs-3.20-bioc\R\bin\R.exe CMD check --no-multiarch --install=check:GenomAutomorphism.install-out.txt --library=F:\biocbuild\bbs-3.20-bioc\R\library --no-vignettes --timings GenomAutomorphism_1.8.1.tar.gz StartedAt: 2025-01-31 02:20:16 -0500 (Fri, 31 Jan 2025) EndedAt: 2025-01-31 02:26:06 -0500 (Fri, 31 Jan 2025) EllapsedTime: 350.0 seconds RetCode: 0 Status: WARNINGS CheckDir: GenomAutomorphism.Rcheck Warnings: 1