Package: GenomAutomorphism Version: 1.8.1 Command: /home/biocbuild/bbs-3.20-bioc/R/bin/R CMD check --install=check:GenomAutomorphism.install-out.txt --library=/home/biocbuild/bbs-3.20-bioc/R/site-library --timings GenomAutomorphism_1.8.1.tar.gz StartedAt: 2025-01-30 22:29:39 -0500 (Thu, 30 Jan 2025) EndedAt: 2025-01-30 22:33:56 -0500 (Thu, 30 Jan 2025) EllapsedTime: 257.2 seconds RetCode: 0 Status: WARNINGS CheckDir: GenomAutomorphism.Rcheck Warnings: 1