Package: GeneTonic Version: 3.0.0 Command: /home/biocbuild/R/R/bin/R CMD build --keep-empty-dirs --no-resave-data GeneTonic StartedAt: 2025-01-30 23:48:22 -0000 (Thu, 30 Jan 2025) EndedAt: 2025-01-30 23:50:53 -0000 (Thu, 30 Jan 2025) EllapsedTime: 151.1 seconds RetCode: 0 Status: OK PackageFile: GeneTonic_3.0.0.tar.gz PackageFileSize: 8.095 MiB