Package: GeneTonic Version: 3.0.0 Command: /Library/Frameworks/R.framework/Resources/bin/R CMD check --install=check:GeneTonic.install-out.txt --library=/Library/Frameworks/R.framework/Resources/library --no-vignettes --timings GeneTonic_3.0.0.tar.gz StartedAt: 2025-01-31 20:14:32 -0500 (Fri, 31 Jan 2025) EndedAt: 2025-01-31 20:27:13 -0500 (Fri, 31 Jan 2025) EllapsedTime: 761.7 seconds RetCode: 0 Status: OK CheckDir: GeneTonic.Rcheck Warnings: 0