Package: GeneSelectMMD Version: 2.50.0 Command: rm -rf GeneSelectMMD.buildbin-libdir && mkdir GeneSelectMMD.buildbin-libdir && /Users/biocbuild/BBS/utils/build-universal.sh GeneSelectMMD_2.50.0.tar.gz /Library/Frameworks/R.framework/Resources/bin/R GeneSelectMMD.buildbin-libdir StartedAt: 2025-01-31 12:51:39 -0500 (Fri, 31 Jan 2025) EndedAt: 2025-01-31 12:52:01 -0500 (Fri, 31 Jan 2025) EllapsedTime: 21.7 seconds RetCode: 0 Status: OK PackageFile: GeneSelectMMD_2.50.0.tgz PackageFileSize: 548.3 KiB