Package: GeneRegionScan Version: 1.62.0 Command: /home/biocbuild/R/R/bin/R CMD build --keep-empty-dirs --no-resave-data GeneRegionScan StartedAt: 2025-01-30 23:47:42 -0000 (Thu, 30 Jan 2025) EndedAt: 2025-01-30 23:48:27 -0000 (Thu, 30 Jan 2025) EllapsedTime: 45.0 seconds RetCode: 0 Status: OK PackageFile: GeneRegionScan_1.62.0.tar.gz PackageFileSize: 7.477 MiB