Package: GeneRegionScan Version: 1.62.0 Command: /Library/Frameworks/R.framework/Resources/bin/R CMD INSTALL GeneRegionScan StartedAt: 2025-01-30 15:28:01 -0500 (Thu, 30 Jan 2025) EndedAt: 2025-01-30 15:28:18 -0500 (Thu, 30 Jan 2025) EllapsedTime: 16.1 seconds RetCode: 0 Status: OK