Package: GeneMeta Version: 1.78.0 Command: /home/biocbuild/R/R/bin/R CMD build --keep-empty-dirs --no-resave-data GeneMeta StartedAt: 2025-01-30 23:46:56 -0000 (Thu, 30 Jan 2025) EndedAt: 2025-01-30 23:47:36 -0000 (Thu, 30 Jan 2025) EllapsedTime: 40.0 seconds RetCode: 0 Status: OK PackageFile: GeneMeta_1.78.0.tar.gz PackageFileSize: 2.695 MiB