Package: GeneExpressionSignature Version: 1.52.0 Command: /Library/Frameworks/R.framework/Resources/bin/R CMD check --install=check:GeneExpressionSignature.install-out.txt --library=/Library/Frameworks/R.framework/Resources/library --no-vignettes --timings GeneExpressionSignature_1.52.0.tar.gz StartedAt: 2025-01-31 20:05:48 -0500 (Fri, 31 Jan 2025) EndedAt: 2025-01-31 20:06:41 -0500 (Fri, 31 Jan 2025) EllapsedTime: 53.8 seconds RetCode: 0 Status: OK CheckDir: GeneExpressionSignature.Rcheck Warnings: 0