Package: GeneExpressionSignature Version: 1.52.0 Command: /Library/Frameworks/R.framework/Resources/bin/R CMD build --keep-empty-dirs --no-resave-data GeneExpressionSignature StartedAt: 2025-01-31 00:07:53 -0500 (Fri, 31 Jan 2025) EndedAt: 2025-01-31 00:08:25 -0500 (Fri, 31 Jan 2025) EllapsedTime: 32.8 seconds RetCode: 0 Status: OK PackageFile: GeneExpressionSignature_1.52.0.tar.gz PackageFileSize: 2.545 MiB