Package: GateFinder Version: 1.26.0 Command: F:\biocbuild\bbs-3.20-bioc\R\bin\R.exe CMD check --no-multiarch --install=check:GateFinder.install-out.txt --library=F:\biocbuild\bbs-3.20-bioc\R\library --no-vignettes --timings GateFinder_1.26.0.tar.gz StartedAt: 2025-01-31 02:11:25 -0500 (Fri, 31 Jan 2025) EndedAt: 2025-01-31 02:12:54 -0500 (Fri, 31 Jan 2025) EllapsedTime: 89.0 seconds RetCode: 0 Status: WARNINGS CheckDir: GateFinder.Rcheck Warnings: 1