Package: GateFinder Version: 1.26.0 Command: /Library/Frameworks/R.framework/Resources/bin/R CMD INSTALL GateFinder StartedAt: 2025-01-30 15:24:38 -0500 (Thu, 30 Jan 2025) EndedAt: 2025-01-30 15:25:08 -0500 (Thu, 30 Jan 2025) EllapsedTime: 30.2 seconds RetCode: 0 Status: OK