Package: GateFinder Version: 1.26.0 Command: rm -rf GateFinder.buildbin-libdir && mkdir GateFinder.buildbin-libdir && /Users/biocbuild/BBS/utils/build-universal.sh GateFinder_1.26.0.tar.gz /Library/Frameworks/R.framework/Resources/bin/R GateFinder.buildbin-libdir StartedAt: 2025-01-31 12:50:00 -0500 (Fri, 31 Jan 2025) EndedAt: 2025-01-31 12:50:29 -0500 (Fri, 31 Jan 2025) EllapsedTime: 29.1 seconds RetCode: 0 Status: OK PackageFile: GateFinder_1.26.0.tgz PackageFileSize: 959.6 KiB