Package: GWAS.BAYES Version: 1.16.0 Command: /home/biocbuild/bbs-3.20-bioc/R/bin/R CMD INSTALL GWAS.BAYES StartedAt: 2025-01-30 15:50:13 -0500 (Thu, 30 Jan 2025) EndedAt: 2025-01-30 15:50:19 -0500 (Thu, 30 Jan 2025) EllapsedTime: 6.2 seconds RetCode: 0 Status: OK