Package: GWAS.BAYES Version: 1.16.0 Command: /Library/Frameworks/R.framework/Resources/bin/R CMD INSTALL GWAS.BAYES StartedAt: 2025-01-30 16:26:30 -0500 (Thu, 30 Jan 2025) EndedAt: 2025-01-30 16:26:44 -0500 (Thu, 30 Jan 2025) EllapsedTime: 13.8 seconds RetCode: 0 Status: OK