Package: GSgalgoR Version: 1.16.0 Command: /home/biocbuild/R/R/bin/R CMD build --keep-empty-dirs --no-resave-data GSgalgoR StartedAt: 2025-01-31 00:10:30 -0000 (Fri, 31 Jan 2025) EndedAt: 2025-01-31 00:12:18 -0000 (Fri, 31 Jan 2025) EllapsedTime: 108.2 seconds RetCode: 0 Status: OK PackageFile: GSgalgoR_1.16.0.tar.gz PackageFileSize: 2.261 MiB