Package: GSgalgoR Version: 1.15.0 Command: rm -rf GSgalgoR.buildbin-libdir && mkdir GSgalgoR.buildbin-libdir && F:\biocbuild\bbs-3.20-bioc\R\bin\R.exe CMD INSTALL --build --library=GSgalgoR.buildbin-libdir GSgalgoR_1.15.0.tar.gz StartedAt: 2024-06-10 13:50:19 -0400 (Mon, 10 Jun 2024) EndedAt: 2024-06-10 13:50:51 -0400 (Mon, 10 Jun 2024) EllapsedTime: 31.2 seconds RetCode: 0 Status: OK PackageFile: GSgalgoR_1.15.0.zip PackageFileSize: 2.262 MiB