Package: GSVA Version: 2.0.5 Command: chmod a+r GSVA -R && F:\biocbuild\bbs-3.20-bioc\R\bin\R.exe CMD build --keep-empty-dirs --no-resave-data GSVA StartedAt: 2025-01-30 19:23:32 -0500 (Thu, 30 Jan 2025) EndedAt: 2025-01-30 19:26:36 -0500 (Thu, 30 Jan 2025) EllapsedTime: 184.5 seconds RetCode: 0 Status: OK PackageFile: GSVA_2.0.5.tar.gz PackageFileSize: 2.133 MiB