Package: GSVA Version: 1.53.4 Command: C:\Users\biocbuild\bbs-3.20-bioc\R\bin\R.exe CMD check --no-multiarch --install=check:GSVA.install-out.txt --library=C:\Users\biocbuild\bbs-3.20-bioc\R\library --no-vignettes --timings GSVA_1.53.4.tar.gz StartedAt: 2024-07-16 00:40:39 -0400 (Tue, 16 Jul 2024) EndedAt: 2024-07-16 00:49:34 -0400 (Tue, 16 Jul 2024) EllapsedTime: 535.5 seconds RetCode: 0 Status: OK CheckDir: GSVA.Rcheck Warnings: 0