Package: GSVA Version: 2.0.5 Command: /home/biocbuild/bbs-3.20-bioc/R/bin/R CMD build --keep-empty-dirs --no-resave-data --md5 GSVA StartedAt: 2025-01-30 17:34:21 -0500 (Thu, 30 Jan 2025) EndedAt: 2025-01-30 17:36:34 -0500 (Thu, 30 Jan 2025) EllapsedTime: 133.2 seconds RetCode: 0 Status: OK PackageFile: GSVA_2.0.5.tar.gz PackageFileSize: 2.424 MiB