Package: GSReg Version: 1.40.0 Command: /home/biocbuild/R/R/bin/R CMD check --install=check:GSReg.install-out.txt --library=/home/biocbuild/R/R/site-library --no-vignettes --timings GSReg_1.40.0.tar.gz StartedAt: 2025-01-31 06:59:05 -0000 (Fri, 31 Jan 2025) EndedAt: 2025-01-31 07:02:05 -0000 (Fri, 31 Jan 2025) EllapsedTime: 180.3 seconds RetCode: 0 Status: WARNINGS CheckDir: GSReg.Rcheck Warnings: 3