Package: GSReg Version: 1.40.0 Command: chmod a+r GSReg -R && F:\biocbuild\bbs-3.20-bioc\R\bin\R.exe CMD build --keep-empty-dirs --no-resave-data GSReg StartedAt: 2025-01-30 19:23:07 -0500 (Thu, 30 Jan 2025) EndedAt: 2025-01-30 19:25:01 -0500 (Thu, 30 Jan 2025) EllapsedTime: 113.3 seconds RetCode: 0 Status: OK PackageFile: GSReg_1.40.0.tar.gz PackageFileSize: 467 KiB