Package: GSRI Version: 2.54.0 Command: /home/biocbuild/R/R/bin/R CMD INSTALL GSRI StartedAt: 2025-01-30 20:49:38 -0000 (Thu, 30 Jan 2025) EndedAt: 2025-01-30 20:50:04 -0000 (Thu, 30 Jan 2025) EllapsedTime: 25.5 seconds RetCode: 0 Status: OK