Package: GSRI Version: 2.54.0 Command: /home/biocbuild/R/R/bin/R CMD check --install=check:GSRI.install-out.txt --library=/home/biocbuild/R/R/site-library --no-vignettes --timings GSRI_2.54.0.tar.gz StartedAt: 2025-01-31 06:59:06 -0000 (Fri, 31 Jan 2025) EndedAt: 2025-01-31 07:01:51 -0000 (Fri, 31 Jan 2025) EllapsedTime: 165.3 seconds RetCode: 0 Status: OK CheckDir: GSRI.Rcheck Warnings: 0