Package: GSRI Version: 2.54.0 Command: /home/biocbuild/R/R/bin/R CMD build --keep-empty-dirs --no-resave-data GSRI StartedAt: 2025-01-31 00:10:43 -0000 (Fri, 31 Jan 2025) EndedAt: 2025-01-31 00:11:29 -0000 (Fri, 31 Jan 2025) EllapsedTime: 46.1 seconds RetCode: 0 Status: OK PackageFile: GSRI_2.54.0.tar.gz PackageFileSize: 324.7 KiB