Package: GSRI Version: 2.54.0 Command: /Library/Frameworks/R.framework/Resources/bin/R CMD INSTALL GSRI StartedAt: 2025-01-30 16:13:54 -0500 (Thu, 30 Jan 2025) EndedAt: 2025-01-30 16:14:39 -0500 (Thu, 30 Jan 2025) EllapsedTime: 45.2 seconds RetCode: 0 Status: OK