Package: GRmetrics Version: 1.32.0 Command: rm -rf GRmetrics.buildbin-libdir && mkdir GRmetrics.buildbin-libdir && /Users/biocbuild/BBS/utils/build-universal.sh GRmetrics_1.32.0.tar.gz /Library/Frameworks/R.framework/Resources/bin/R GRmetrics.buildbin-libdir StartedAt: 2025-02-01 15:12:18 -0500 (Sat, 01 Feb 2025) EndedAt: 2025-02-01 15:12:45 -0500 (Sat, 01 Feb 2025) EllapsedTime: 27.0 seconds RetCode: 0 Status: OK PackageFile: GRmetrics_1.32.0.tgz PackageFileSize: 2.004 MiB