Package: GRaNIE Version: 1.10.0 Command: F:\biocbuild\bbs-3.20-bioc\R\bin\R.exe CMD INSTALL GRaNIE StartedAt: 2025-01-30 16:10:19 -0500 (Thu, 30 Jan 2025) EndedAt: 2025-01-30 16:11:30 -0500 (Thu, 30 Jan 2025) EllapsedTime: 70.6 seconds RetCode: 0 Status: OK