Package: GOpro Version: 1.32.0 Command: /home/biocbuild/bbs-3.20-bioc/R/bin/R CMD build --keep-empty-dirs --no-resave-data --md5 GOpro StartedAt: 2025-01-30 17:29:38 -0500 (Thu, 30 Jan 2025) EndedAt: 2025-01-30 17:30:40 -0500 (Thu, 30 Jan 2025) EllapsedTime: 62.0 seconds RetCode: 0 Status: OK PackageFile: GOpro_1.32.0.tar.gz PackageFileSize: 1.134 MiB