Package: GOSemSim Version: 2.32.0 Command: /home/biocbuild/bbs-3.20-bioc/R/bin/R CMD check --install=check:GOSemSim.install-out.txt --library=/home/biocbuild/bbs-3.20-bioc/R/site-library --timings GOSemSim_2.32.0.tar.gz StartedAt: 2025-01-30 22:44:42 -0500 (Thu, 30 Jan 2025) EndedAt: 2025-01-30 22:47:01 -0500 (Thu, 30 Jan 2025) EllapsedTime: 139.1 seconds RetCode: 0 Status: OK CheckDir: GOSemSim.Rcheck Warnings: 0