Package: GOSemSim Version: 2.32.0 Command: /Library/Frameworks/R.framework/Resources/bin/R CMD build --keep-empty-dirs --no-resave-data GOSemSim StartedAt: 2025-01-30 19:31:37 -0500 (Thu, 30 Jan 2025) EndedAt: 2025-01-30 19:32:32 -0500 (Thu, 30 Jan 2025) EllapsedTime: 55.6 seconds RetCode: 0 Status: OK PackageFile: GOSemSim_2.32.0.tar.gz PackageFileSize: 594.7 KiB