Package: GOSemSim Version: 2.32.0 Command: rm -rf GOSemSim.buildbin-libdir && mkdir GOSemSim.buildbin-libdir && /Users/biocbuild/BBS/utils/build-universal.sh GOSemSim_2.32.0.tar.gz /Library/Frameworks/R.framework/Resources/bin/R GOSemSim.buildbin-libdir StartedAt: 2025-01-31 12:55:20 -0500 (Fri, 31 Jan 2025) EndedAt: 2025-01-31 12:56:14 -0500 (Fri, 31 Jan 2025) EllapsedTime: 54.8 seconds RetCode: 0 Status: OK PackageFile: GOSemSim_2.32.0.tgz PackageFileSize: 1.148 MiB