Package: GNET2 Version: 1.22.0 Command: /home/biocbuild/bbs-3.20-bioc/R/bin/R CMD build --keep-empty-dirs --no-resave-data GNET2 StartedAt: 2024-11-19 19:15:27 -0500 (Tue, 19 Nov 2024) EndedAt: 2024-11-19 19:16:14 -0500 (Tue, 19 Nov 2024) EllapsedTime: 47.2 seconds RetCode: 0 Status: OK PackageFile: GNET2_1.22.0.tar.gz PackageFileSize: 734.1 KiB