Package: GNET2 Version: 1.22.0 Command: /home/biocbuild/R/R/bin/R CMD build --keep-empty-dirs --no-resave-data GNET2 StartedAt: 2025-01-31 00:01:18 -0000 (Fri, 31 Jan 2025) EndedAt: 2025-01-31 00:02:22 -0000 (Fri, 31 Jan 2025) EllapsedTime: 64.0 seconds RetCode: 0 Status: OK PackageFile: GNET2_1.22.0.tar.gz PackageFileSize: 913.7 KiB