Package: GNET2 Version: 1.22.0 Command: /Library/Frameworks/R.framework/Resources/bin/R CMD INSTALL GNET2 StartedAt: 2025-01-30 15:54:45 -0500 (Thu, 30 Jan 2025) EndedAt: 2025-01-30 15:55:52 -0500 (Thu, 30 Jan 2025) EllapsedTime: 66.6 seconds RetCode: 0 Status: OK